BEGIN:VCALENDAR
VERSION:2.0
PRODID:-//time.you/holidays//NONSGML v1.0//EN
BEGIN:VEVENT
UID:8294ac6a-060e-4f4e-a9f0-7728abcf041d
DTSTAMP:20260422T070347Z
DTSTART;VALUE=DATE:20261224
SUMMARY:Christmas Eve (South Sudan)
END:VEVENT
END:VCALENDAR