BEGIN:VCALENDAR
VERSION:2.0
PRODID:-//time.you/holidays//NONSGML v1.0//EN
BEGIN:VEVENT
UID:e90c791d-f31b-45d7-b370-41ac6030a5b5
DTSTAMP:20260419T233519Z
DTSTART;VALUE=DATE:20260406
SUMMARY:Easter Monday (South Sudan)
END:VEVENT
END:VCALENDAR