BEGIN:VCALENDAR
VERSION:2.0
PRODID:-//time.you/holidays//NONSGML v1.0//EN
BEGIN:VEVENT
UID:11f1b429-b2fd-4249-b977-944c390b2fac
DTSTAMP:20260422T064300Z
DTSTART;VALUE=DATE:20260405
SUMMARY:Easter Sunday (South Sudan)
END:VEVENT
END:VCALENDAR