BEGIN:VCALENDAR
VERSION:2.0
PRODID:-//time.you/holidays//NONSGML v1.0//EN
BEGIN:VEVENT
UID:c0c5868e-003d-4ce4-9f71-8b3bd7d9e0e4
DTSTAMP:20260421T144219Z
DTSTART;VALUE=DATE:20260320
SUMMARY:Eid al-Fitr (estimated) (South Sudan)
END:VEVENT
END:VCALENDAR