BEGIN:VCALENDAR
VERSION:2.0
PRODID:-//time.you/holidays//NONSGML v1.0//EN
BEGIN:VEVENT
UID:88fc11f6-a9e1-4a99-a58b-efadd4634a8f
DTSTAMP:20260421T133439Z
DTSTART;VALUE=DATE:20260709
SUMMARY:Independence Day (South Sudan)
END:VEVENT
END:VCALENDAR