BEGIN:VCALENDAR
VERSION:2.0
PRODID:-//time.you/holidays//NONSGML v1.0//EN
BEGIN:VEVENT
UID:41216f11-29b6-4880-abce-6abe8d2c8dbf
DTSTAMP:20260422T020814Z
DTSTART;VALUE=DATE:20260501
SUMMARY:International Labour Day (South Sudan)
END:VEVENT
END:VCALENDAR