BEGIN:VCALENDAR
VERSION:2.0
PRODID:-//time.you/holidays//NONSGML v1.0//EN
BEGIN:VEVENT
UID:2d91f942-edff-4107-9497-85f8ac693a03
DTSTAMP:20260421T144110Z
DTSTART;VALUE=DATE:20261226
SUMMARY:Second Day of Christmas (South Sudan)
END:VEVENT
END:VCALENDAR