BEGIN:VCALENDAR
VERSION:2.0
PRODID:-//time.you/holidays//NONSGML v1.0//EN
BEGIN:VEVENT
UID:d8247fe7-386f-4d1e-9cca-c39277672897
DTSTAMP:20260425T014602Z
DTSTART;VALUE=DATE:20261101
SUMMARY:All Saints' Day (Spain)
END:VEVENT
END:VCALENDAR