BEGIN:VCALENDAR
VERSION:2.0
PRODID:-//time.you/holidays//NONSGML v1.0//EN
BEGIN:VEVENT
UID:8196cec8-b191-4e39-bc59-954c0d5d1aa4
DTSTAMP:20260422T111731Z
DTSTART;VALUE=DATE:20260228
SUMMARY:Andalusia Day (Spain)
END:VEVENT
END:VCALENDAR