BEGIN:VCALENDAR
VERSION:2.0
PRODID:-//time.you/holidays//NONSGML v1.0//EN
BEGIN:VEVENT
UID:fb57cb97-a33d-48dc-98af-80c568386a31
DTSTAMP:20260420T223739Z
DTSTART;VALUE=DATE:20260815
SUMMARY:Assumption Day (Spain)
END:VEVENT
END:VCALENDAR