BEGIN:VCALENDAR
VERSION:2.0
PRODID:-//time.you/holidays//NONSGML v1.0//EN
BEGIN:VEVENT
UID:22593557-7482-4c5b-b983-b6325689bb4d
DTSTAMP:20260420T084904Z
DTSTART;VALUE=DATE:20260530
SUMMARY:Day of the Canary Islands (Spain)
END:VEVENT
END:VCALENDAR