BEGIN:VCALENDAR
VERSION:2.0
PRODID:-//time.you/holidays//NONSGML v1.0//EN
BEGIN:VEVENT
UID:85e26144-5664-49b1-ab29-68c65e2ca7ce
DTSTAMP:20260424T053141Z
DTSTART;VALUE=DATE:20260406
SUMMARY:Easter Monday (Spain)
END:VEVENT
END:VCALENDAR