BEGIN:VCALENDAR
VERSION:2.0
PRODID:-//time.you/holidays//NONSGML v1.0//EN
BEGIN:VEVENT
UID:96192958-2ce5-4b39-ba98-256659ba8f5a
DTSTAMP:20260420T195349Z
DTSTART;VALUE=DATE:20250606
SUMMARY:Eid al-Adha (Spain)
END:VEVENT
END:VCALENDAR