BEGIN:VCALENDAR
VERSION:2.0
PRODID:-//time.you/holidays//NONSGML v1.0//EN
BEGIN:VEVENT
UID:047724be-1b02-4fd2-b122-0b0b4f56e5d4
DTSTAMP:20260420T200911Z
DTSTART;VALUE=DATE:20260501
SUMMARY:Labor Day (Spain)
END:VEVENT
END:VCALENDAR