BEGIN:VCALENDAR
VERSION:2.0
PRODID:-//time.you/holidays//NONSGML v1.0//EN
BEGIN:VEVENT
UID:2feeb3fd-21e3-497b-aacd-2dc261aa91f6
DTSTAMP:20260422T053808Z
DTSTART;VALUE=DATE:20221226
SUMMARY:Monday following Christmas Day (Spain)
END:VEVENT
END:VCALENDAR