BEGIN:VCALENDAR
VERSION:2.0
PRODID:-//time.you/holidays//NONSGML v1.0//EN
BEGIN:VEVENT
UID:2004d360-a903-4f31-975f-812fcced8093
DTSTAMP:20260424T034035Z
DTSTART;VALUE=DATE:20281204
SUMMARY:Monday following Saint Francis Xavier's Day (Spain)
END:VEVENT
END:VCALENDAR