BEGIN:VCALENDAR
VERSION:2.0
PRODID:-//time.you/holidays//NONSGML v1.0//EN
BEGIN:VEVENT
UID:2b3043d8-b033-4078-9c94-29d2c53fe09c
DTSTAMP:20260421T194522Z
DTSTART;VALUE=DATE:20280424
SUMMARY:Monday following Saint George's Day (Spain)
END:VEVENT
END:VCALENDAR