BEGIN:VCALENDAR
VERSION:2.0
PRODID:-//time.you/holidays//NONSGML v1.0//EN
BEGIN:VEVENT
UID:0c91a76f-dc69-4991-b864-74b7daee625f
DTSTAMP:20260422T065644Z
DTSTART;VALUE=DATE:20260423
SUMMARY:Saint George's Day (Spain)
END:VEVENT
END:VCALENDAR