BEGIN:VCALENDAR
VERSION:2.0
PRODID:-//time.you/holidays//NONSGML v1.0//EN
BEGIN:VEVENT
UID:9dca3f0c-7d0c-4140-b7e1-ec4cb758e154
DTSTAMP:20260422T035301Z
DTSTART;VALUE=DATE:20260624
SUMMARY:Saint John the Baptist (Spain)
END:VEVENT
END:VCALENDAR