BEGIN:VCALENDAR
VERSION:2.0
PRODID:-//time.you/holidays//NONSGML v1.0//EN
BEGIN:VEVENT
UID:fb0c278e-fdf9-47c3-8739-b917315c44f9
DTSTAMP:20260424T092706Z
DTSTART;VALUE=DATE:20261226
SUMMARY:Saint Stephen's Day (Spain)
END:VEVENT
END:VCALENDAR