BEGIN:VCALENDAR
VERSION:2.0
PRODID:-//time.you/holidays//NONSGML v1.0//EN
BEGIN:VEVENT
UID:45f0c624-c8ce-49db-89ce-ac2cf096b959
DTSTAMP:20260420T090345Z
DTSTART;VALUE=DATE:20260805
SUMMARY:Santa Maria of Africa (Spain)
END:VEVENT
END:VCALENDAR