BEGIN:VCALENDAR
VERSION:2.0
PRODID:-//time.you/holidays//NONSGML v1.0//EN
BEGIN:VEVENT
UID:f5a354dc-1124-4403-a431-c1f5dbe4dbd9
DTSTAMP:20260425T010416Z
DTSTART;VALUE=DATE:20240213
SUMMARY:Shrove Tuesday (Spain)
END:VEVENT
END:VCALENDAR