BEGIN:VCALENDAR
VERSION:2.0
PRODID:-//time.you/holidays//NONSGML v1.0//EN
BEGIN:VEVENT
UID:3cbf41a8-77f5-4263-9fad-aeb21f6dfe7f
DTSTAMP:20260421T194926Z
DTSTART;VALUE=DATE:20210313
SUMMARY:Statute of Autonomy of Melilla Day (Spain)
END:VEVENT
END:VCALENDAR