BEGIN:VCALENDAR
VERSION:2.0
PRODID:-//time.you/holidays//NONSGML v1.0//EN
BEGIN:VEVENT
UID:178ae038-09f1-46ea-b3e8-dcded1d1fc7d
DTSTAMP:20260424T164722Z
DTSTART;VALUE=DATE:20220906
SUMMARY:V Centennial of the Circumnavigation of the World (Spain)
END:VEVENT
END:VCALENDAR