BEGIN:VCALENDAR
VERSION:2.0
PRODID:-//time.you/holidays//NONSGML v1.0//EN
BEGIN:VEVENT
UID:07e02a7b-397d-46a2-b27f-85e135c8dc00
DTSTAMP:20260421T051519Z
DTSTART;VALUE=DATE:20261009
SUMMARY:Valencian Community Day (Spain)
END:VEVENT
END:VCALENDAR