BEGIN:VCALENDAR
VERSION:2.0
PRODID:-//time.you/holidays//NONSGML v1.0//EN
BEGIN:VEVENT
UID:c2e307dd-0f81-4de3-be0b-c1828c002983
DTSTAMP:20260419T180709Z
DTSTART;VALUE=DATE:20260107
SUMMARY:Coptic Christmas (Sudan)
END:VEVENT
END:VCALENDAR