BEGIN:VCALENDAR
VERSION:2.0
PRODID:-//time.you/holidays//NONSGML v1.0//EN
BEGIN:VEVENT
UID:44336f5f-4fa7-49a2-9896-fd76611094bd
DTSTAMP:20260420T022154Z
DTSTART;VALUE=DATE:20260412
SUMMARY:Coptic Easter (Sudan)
END:VEVENT
END:VCALENDAR