BEGIN:VCALENDAR
VERSION:2.0
PRODID:-//time.you/holidays//NONSGML v1.0//EN
BEGIN:VEVENT
UID:18ef6a3a-c8ed-4af0-a757-128e998b02cd
DTSTAMP:20260420T125126Z
DTSTART;VALUE=DATE:20260320
SUMMARY:Eid al-Fitr (estimated) (Sudan)
END:VEVENT
END:VCALENDAR