BEGIN:VCALENDAR
VERSION:2.0
PRODID:-//time.you/holidays//NONSGML v1.0//EN
BEGIN:VEVENT
UID:bdd0cfbc-192f-4634-8180-c769d772768b
DTSTAMP:20260420T115936Z
DTSTART;VALUE=DATE:20261225
SUMMARY:Christmas Day (Suriname)
END:VEVENT
END:VCALENDAR