BEGIN:VCALENDAR
VERSION:2.0
PRODID:-//time.you/holidays//NONSGML v1.0//EN
BEGIN:VEVENT
UID:cef596a5-8a1e-4fa7-a213-9c939e5d3ce1
DTSTAMP:20260422T022921Z
DTSTART;VALUE=DATE:20261108
SUMMARY:Diwali (Suriname)
END:VEVENT
END:VCALENDAR