BEGIN:VCALENDAR
VERSION:2.0
PRODID:-//time.you/holidays//NONSGML v1.0//EN
BEGIN:VEVENT
UID:56ec34b7-4361-4b31-9e2f-48110485ff55
DTSTAMP:20260421T002819Z
DTSTART;VALUE=DATE:20260406
SUMMARY:Easter Monday (Suriname)
END:VEVENT
END:VCALENDAR