BEGIN:VCALENDAR
VERSION:2.0
PRODID:-//time.you/holidays//NONSGML v1.0//EN
BEGIN:VEVENT
UID:20b11849-3f69-4338-89ec-76ef2664c2ab
DTSTAMP:20260424T003821Z
DTSTART;VALUE=DATE:20250331
SUMMARY:Eid al-Fitr (Suriname)
END:VEVENT
END:VCALENDAR