BEGIN:VCALENDAR
VERSION:2.0
PRODID:-//time.you/holidays//NONSGML v1.0//EN
BEGIN:VEVENT
UID:2f1b387c-7a95-45aa-80c5-13d41159d052
DTSTAMP:20260420T162710Z
DTSTART;VALUE=DATE:20260403
SUMMARY:Good Friday (Suriname)
END:VEVENT
END:VCALENDAR