BEGIN:VCALENDAR
VERSION:2.0
PRODID:-//time.you/holidays//NONSGML v1.0//EN
BEGIN:VEVENT
UID:40e55e19-c4f5-4aa0-9825-b6620c944ede
DTSTAMP:20260420T013837Z
DTSTART;VALUE=DATE:20261225
SUMMARY:Christmas Day (Svalbard and Jan Mayen)
END:VEVENT
END:VCALENDAR