BEGIN:VCALENDAR
VERSION:2.0
PRODID:-//time.you/holidays//NONSGML v1.0//EN
BEGIN:VEVENT
UID:8477f823-075d-4278-94b5-f2bbd9355f42
DTSTAMP:20260421T130414Z
DTSTART;VALUE=DATE:20260517
SUMMARY:Constitution Day (Svalbard and Jan Mayen)
END:VEVENT
END:VCALENDAR