BEGIN:VCALENDAR
VERSION:2.0
PRODID:-//time.you/holidays//NONSGML v1.0//EN
BEGIN:VEVENT
UID:16ae7530-6241-4c82-98a9-0bb59d743454
DTSTAMP:20260422T040727Z
DTSTART;VALUE=DATE:20260501
SUMMARY:Labor Day (Svalbard and Jan Mayen)
END:VEVENT
END:VCALENDAR