BEGIN:VCALENDAR
VERSION:2.0
PRODID:-//time.you/holidays//NONSGML v1.0//EN
BEGIN:VEVENT
UID:51bbb264-37b5-4884-844f-3a8e7d8e1d4c
DTSTAMP:20260420T071830Z
DTSTART;VALUE=DATE:20261226
SUMMARY:Second Day of Christmas (Svalbard and Jan Mayen)
END:VEVENT
END:VCALENDAR