BEGIN:VCALENDAR
VERSION:2.0
PRODID:-//time.you/holidays//NONSGML v1.0//EN
BEGIN:VEVENT
UID:0018953d-7490-44a0-a28e-b91c2cb4c722
DTSTAMP:20260421T191611Z
DTSTART;VALUE=DATE:20260525
SUMMARY:Whit Monday (Svalbard and Jan Mayen)
END:VEVENT
END:VCALENDAR