BEGIN:VCALENDAR
VERSION:2.0
PRODID:-//time.you/holidays//NONSGML v1.0//EN
BEGIN:VEVENT
UID:7e5a5e3a-3761-48dd-8739-0efa84b54b60
DTSTAMP:20260422T042634Z
DTSTART;VALUE=DATE:20281224
SUMMARY:Christmas Eve; Sunday (Sweden)
END:VEVENT
END:VCALENDAR