BEGIN:VCALENDAR
VERSION:2.0
PRODID:-//time.you/holidays//NONSGML v1.0//EN
BEGIN:VEVENT
UID:0757135d-59cd-4bc4-a24d-7557d892c80f
DTSTAMP:20260421T000441Z
DTSTART;VALUE=DATE:20260406
SUMMARY:Easter Monday (Sweden)
END:VEVENT
END:VCALENDAR