BEGIN:VCALENDAR
VERSION:2.0
PRODID:-//time.you/holidays//NONSGML v1.0//EN
BEGIN:VEVENT
UID:c4f47a12-82a8-4015-a5f0-73640a641289
DTSTAMP:20260420T082838Z
DTSTART;VALUE=DATE:20260106
SUMMARY:Epiphany (Sweden)
END:VEVENT
END:VCALENDAR