BEGIN:VCALENDAR
VERSION:2.0
PRODID:-//time.you/holidays//NONSGML v1.0//EN
BEGIN:VEVENT
UID:a196d38b-99c4-41be-976d-5ae4d53576fc
DTSTAMP:20260420T231948Z
DTSTART;VALUE=DATE:20260403
SUMMARY:Good Friday (Sweden)
END:VEVENT
END:VCALENDAR