BEGIN:VCALENDAR
VERSION:2.0
PRODID:-//time.you/holidays//NONSGML v1.0//EN
BEGIN:VEVENT
UID:5ce8dc38-14b7-4560-bff7-229611f901cb
DTSTAMP:20260420T031625Z
DTSTART;VALUE=DATE:20260620
SUMMARY:Midsummer Day (Sweden)
END:VEVENT
END:VCALENDAR