BEGIN:VCALENDAR
VERSION:2.0
PRODID:-//time.you/holidays//NONSGML v1.0//EN
BEGIN:VEVENT
UID:bc20169e-3dbf-4b55-8f99-8820b3f1aa45
DTSTAMP:20260422T055232Z
DTSTART;VALUE=DATE:20270606
SUMMARY:National Day of Sweden; Sunday (Sweden)
END:VEVENT
END:VCALENDAR