BEGIN:VCALENDAR
VERSION:2.0
PRODID:-//time.you/holidays//NONSGML v1.0//EN
BEGIN:VEVENT
UID:e34a3dbc-7491-4e16-b4a6-a1870296ff21
DTSTAMP:20260420T055134Z
DTSTART;VALUE=DATE:20260606
SUMMARY:National Day of Sweden (Sweden)
END:VEVENT
END:VCALENDAR