BEGIN:VCALENDAR
VERSION:2.0
PRODID:-//time.you/holidays//NONSGML v1.0//EN
BEGIN:VEVENT
UID:19270f94-b64b-4a25-8946-fa885d92ce0e
DTSTAMP:20260419T233617Z
DTSTART;VALUE=DATE:20260101
SUMMARY:New Year's Day (Sweden)
END:VEVENT
END:VCALENDAR