BEGIN:VCALENDAR
VERSION:2.0
PRODID:-//time.you/holidays//NONSGML v1.0//EN
BEGIN:VEVENT
UID:c4caa48b-ee59-4942-849e-fdbbf42f4862
DTSTAMP:20260422T040255Z
DTSTART;VALUE=DATE:20260106
SUMMARY:Epiphany (Switzerland)
END:VEVENT
END:VCALENDAR