BEGIN:VCALENDAR
VERSION:2.0
PRODID:-//time.you/holidays//NONSGML v1.0//EN
BEGIN:VEVENT
UID:264f63e8-6797-4490-92a7-49f06aafe026
DTSTAMP:20260423T093323Z
DTSTART;VALUE=DATE:20260403
SUMMARY:Good Friday (Switzerland)
END:VEVENT
END:VCALENDAR