BEGIN:VCALENDAR
VERSION:2.0
PRODID:-//time.you/holidays//NONSGML v1.0//EN
BEGIN:VEVENT
UID:0bc21324-6e49-4c65-8d64-6d79d3709059
DTSTAMP:20260421T130657Z
DTSTART;VALUE=DATE:20260629
SUMMARY:Saints Peter and Paul (Switzerland)
END:VEVENT
END:VCALENDAR