BEGIN:VCALENDAR
VERSION:2.0
PRODID:-//time.you/holidays//NONSGML v1.0//EN
BEGIN:VEVENT
UID:e98138d4-82a2-479b-8262-b5b37050861c
DTSTAMP:20260424T192139Z
DTSTART;VALUE=DATE:20261226
SUMMARY:Boxing Day (Syria)
END:VEVENT
END:VCALENDAR